BEGIN:VCALENDAR
VERSION:2.0
PRODID:-//Tukios.com/
BEGIN:VEVENT
UID:3d0dca95-ddc5-42a9-b8de-18a53cdb10d8@www.alanclarkfuneralservices.com
DTSTAMP:20260421T045619Z
DTSTART:20260424T150000Z
DTEND:20260424T160000Z
SUMMARY:Virginia Fern Koch Funeral Service
DESCRIPTION:Darrouzett Lutheran Church
URL:https://www.alanclarkfuneralservices.com/obituaries/virginia-koch
LOCATION:Darrouzett, Texas Lutheran Church 411 Plummer Street  Darrouzett 
	TX 79024
GEO:36.4468951;-100.3276239
END:VEVENT
END:VCALENDAR