BEGIN:VCALENDAR
VERSION:2.0
PRODID:-//Tukios.com/
BEGIN:VEVENT
UID:0d378223-0564-4fb5-9e55-d5b7c21286de@www.alanclarkfuneralservices.com
DTSTAMP:20260421T045930Z
DTSTART:20260423T210000Z
DTEND:20260423T230000Z
SUMMARY:Visitation
DESCRIPTION:
URL:https://www.alanclarkfuneralservices.com/obituaries/virginia-koch
LOCATION: 124 West Second Street  Beaver OK 73932
GEO:36.8170064;-100.5219873
END:VEVENT
END:VCALENDAR